BEGIN:VCALENDAR
VERSION:2.0
PRODID:-//Squarespace Inc/Squarespace 6//v6//EN
BEGIN:VEVENT
UID:59f52c180d9297f9ed5b215b@squarespace.com
DTSTAMP:20171029T021350Z
DTSTART:20171030T210000Z
DTEND:20171030T220000Z
SUMMARY:HIGHFIELDS HOOFERS
GEO:-27.464255;151.937661
LOCATION:56 Kuhls Road\, Highfields\, QLD\, 4352\, Australia
END:VEVENT
END:VCALENDAR
