BEGIN:VCALENDAR
VERSION:2.0
PRODID:-//Squarespace Inc/Squarespace 6//v6//EN
BEGIN:VEVENT
UID:599655fecd0f68504834a18c@squarespace.com
DTSTAMP:20190226T051929Z
DTSTART:20171112T180000Z
DTEND:20171112T200000Z
SUMMARY:MUSIC IN THE PARK
END:VEVENT
END:VCALENDAR
