BEGIN:VCALENDAR
VERSION:2.0
PRODID:-//Squarespace Inc/Squarespace 6//v6//EN
BEGIN:VEVENT
UID:59f52ecfe4966b0784c6876c@squarespace.com
DTSTAMP:20171029T021428Z
DTSTART:20171102T210000Z
DTEND:20171102T220000Z
SUMMARY:HIGHFIELDS HOOFERS
END:VEVENT
END:VCALENDAR
