BEGIN:VCALENDAR
VERSION:2.0
PRODID:-//Squarespace Inc/Squarespace 6//v6//EN
BEGIN:VEVENT
UID:5be3c935562fa7cc77b7b55b@squarespace.com
DTSTAMP:20181108T052742Z
DTSTART:20181115T220000Z
DTEND:20181115T230000Z
SUMMARY: HIGHFIELDS HOOFERS
END:VEVENT
END:VCALENDAR
