BEGIN:VCALENDAR
VERSION:2.0
PRODID:-//Squarespace Inc/Squarespace 6//v6//EN
BEGIN:VEVENT
UID:5b0f83de03ce6436bf00e47b@squarespace.com
DTSTAMP:20180706T031036Z
DTSTART:20180709T200000Z
DTEND:20180709T210000Z
SUMMARY:HIGHFIELDS HOOFERS
END:VEVENT
END:VCALENDAR
