BEGIN:VCALENDAR
VERSION:2.0
PRODID:-//Squarespace Inc/Squarespace 6//v6//EN
BEGIN:VEVENT
UID:5b0f83c0575d1f515dbcca4d@squarespace.com
DTSTAMP:20180706T031147Z
DTSTART:20180716T200000Z
DTEND:20180716T210000Z
SUMMARY:HIGHFIELDS HOOFERS
END:VEVENT
END:VCALENDAR
