BEGIN:VCALENDAR
VERSION:2.0
PRODID:-//Squarespace Inc/Squarespace 6//v6//EN
BEGIN:VEVENT
UID:5b0f83941ae6cfea0d928d43@squarespace.com
DTSTAMP:20180706T031306Z
DTSTART:20180726T200000Z
DTEND:20180726T210000Z
SUMMARY:HIGHFIELDS HOOFERS
END:VEVENT
END:VCALENDAR
