BEGIN:VCALENDAR
VERSION:2.0
PRODID:-//Squarespace Inc/Squarespace 6//v6//EN
BEGIN:VEVENT
UID:5bf51295c2241b56be11442d@squarespace.com
DTSTAMP:20181121T080921Z
DTSTART:20181129T220000Z
DTEND:20181129T230000Z
SUMMARY:HIGHFIELDS HOOFERS
END:VEVENT
END:VCALENDAR
