BEGIN:VCALENDAR
VERSION:2.0
PRODID:-//Squarespace Inc/Squarespace 6//v6//EN
BEGIN:VEVENT
UID:5bf5125d8a922d9582709adb@squarespace.com
DTSTAMP:20181121T080833Z
DTSTART:20181126T220000Z
DTEND:20181126T230000Z
SUMMARY:HIGHFIELDS HOOFERS
END:VEVENT
END:VCALENDAR
