BEGIN:VCALENDAR
VERSION:2.0
PRODID:-//Squarespace Inc/Squarespace 6//v6//EN
BEGIN:VEVENT
UID:5be3c995352f531a564b121a@squarespace.com
DTSTAMP:20181121T080734Z
DTSTART:20181122T220000Z
DTEND:20181122T230000Z
SUMMARY:HIGHFIELDS HOOFERS
END:VEVENT
END:VCALENDAR
