BEGIN:VCALENDAR
VERSION:2.0
PRODID:-//Squarespace Inc/Squarespace 6//v6//EN
BEGIN:VEVENT
UID:5be3c95f4ae23712601e352a@squarespace.com
DTSTAMP:20181108T052827Z
DTSTART:20181112T220000Z
DTEND:20181112T230000Z
SUMMARY:HIGHFIELDS HOOFERS
END:VEVENT
END:VCALENDAR
