BEGIN:VCALENDAR
VERSION:2.0
PRODID:-//Squarespace Inc/Squarespace 6//v6//EN
BEGIN:VEVENT
UID:59f52f1fd6839afae90aa8c4@squarespace.com
DTSTAMP:20181108T043249Z
DTSTART:20181108T220000Z
DTEND:20181108T230000Z
SUMMARY:HIGHFIELDS HOOFERS
END:VEVENT
END:VCALENDAR
