BEGIN:VCALENDAR
VERSION:2.0
PRODID:-//Squarespace Inc/Squarespace 6//v6//EN
BEGIN:VEVENT
UID:59f5305fec212d295bbb3d64@squarespace.com
DTSTAMP:20171029T014655Z
DTSTART:20171109T143000Z
DTEND:20171109T150000Z
SUMMARY:FIRST 5 FOREVER - MUSIC AND MOVEMENT
END:VEVENT
END:VCALENDAR
