BEGIN:VCALENDAR
VERSION:2.0
PRODID:-//Squarespace Inc/Squarespace 6//v6//EN
BEGIN:VEVENT
UID:5b0f832f8a922d2d9288682d@squarespace.com
DTSTAMP:20180706T030949Z
DTSTART:20180712T200000Z
DTEND:20180712T210000Z
SUMMARY:HIGHFIELDS HOOFERS
END:VEVENT
END:VCALENDAR
