BEGIN:VCALENDAR
VERSION:2.0
PRODID:-//Squarespace Inc/Squarespace 6//v6//EN
BEGIN:VEVENT
UID:5b0f82e7f950b73249ede628@squarespace.com
DTSTAMP:20180706T031104Z
DTSTART:20180723T200000Z
DTEND:20180723T210000Z
SUMMARY:HIGHFIELDS HOOFERS
END:VEVENT
END:VCALENDAR
