BEGIN:VCALENDAR
VERSION:2.0
PRODID:-//Squarespace Inc/Squarespace 6//v6//EN
BEGIN:VEVENT
UID:5b0f82aa6d2a73dba0d8e767@squarespace.com
DTSTAMP:20180706T031211Z
DTSTART:20180719T200000Z
DTEND:20180719T210000Z
SUMMARY:HIGHFIELDS HOOFERS
END:VEVENT
END:VCALENDAR
