BEGIN:VCALENDAR
VERSION:2.0
PRODID:-//Squarespace Inc/Squarespace 6//v6//EN
BEGIN:VEVENT
UID:59f52f5353450a1e3bb3e322@squarespace.com
DTSTAMP:20180706T031334Z
DTSTART:20180730T200000Z
DTEND:20180730T210000Z
SUMMARY:HIGHFIELDS HOOFERS
END:VEVENT
END:VCALENDAR
