BEGIN:VCALENDAR
VERSION:2.0
PRODID:-//Squarespace Inc/Squarespace 6//v6//EN
BEGIN:VEVENT
UID:59e838a99f8dce26a33f3998@squarespace.com
DTSTAMP:20191129T080755Z
DTSTART:20191207T220000Z
DTEND:20191208T010000Z
SUMMARY:CAROLS AT PEACEHAVEN
END:VEVENT
END:VCALENDAR
