BEGIN:VCALENDAR
VERSION:2.0
PRODID:-//Squarespace Inc/Squarespace 6//v6//EN
BEGIN:VEVENT
UID:599653b959cc68c3682760fb@squarespace.com
DTSTAMP:20170818T031010Z
DTSTART:20171008T170000Z
DTEND:20171008T190000Z
SUMMARY:MUSIC IN THE PARK
END:VEVENT
END:VCALENDAR
