BEGIN:VCALENDAR
VERSION:2.0
PRODID:-//Squarespace Inc/Squarespace 6//v6//EN
BEGIN:VEVENT
UID:59964e05197aea9a2fb88dfc@squarespace.com
DTSTAMP:20170818T031242Z
DTSTART:20170910T170000Z
DTEND:20170910T190000Z
SUMMARY:MUSIC IN THE PARK
END:VEVENT
END:VCALENDAR
