BEGIN:VCALENDAR
VERSION:2.0
PRODID:-//Squarespace Inc/Squarespace 6//v6//EN
BEGIN:VEVENT
UID:59964ff3d2b85786d772a443@squarespace.com
DTSTAMP:20170818T030934Z
DTSTART:20170924T170000Z
DTEND:20170924T190000Z
SUMMARY:MUSIC IN THE PARK
END:VEVENT
END:VCALENDAR
