BEGIN:VCALENDAR
VERSION:2.0
PRODID:-//Squarespace Inc/Squarespace 6//v6//EN
BEGIN:VEVENT
UID:59a0f65fcd39c3181c3a5f7c@squarespace.com
DTSTAMP:20170826T042856Z
DTSTART:20170924T153000Z
DTEND:20170924T190000Z
SUMMARY:PICNIC IN THE PARK
END:VEVENT
END:VCALENDAR
