BEGIN:VCALENDAR
VERSION:2.0
PRODID:-//Squarespace Inc/Squarespace 6//v6//EN
BEGIN:VEVENT
UID:5bfa312740ec9ad433a95749@squarespace.com
DTSTAMP:20190806T065713Z
DTSTART:20190908T170000Z
DTEND:20190908T190000Z
SUMMARY:MUSIC IN THE PARK
END:VEVENT
END:VCALENDAR
