BEGIN:VCALENDAR
VERSION:2.0
PRODID:-//Squarespace Inc/Squarespace 6//v6//EN
BEGIN:VEVENT
UID:5b3ee2c8352f532fb8462780@squarespace.com
DTSTAMP:20190226T053633Z
DTSTART:20181014T170000Z
DTEND:20181014T190000Z
SUMMARY:MUSIC IN THE PARK
END:VEVENT
END:VCALENDAR
