BEGIN:VCALENDAR
VERSION:2.0
PRODID:-//Squarespace Inc/Squarespace 6//v6//EN
BEGIN:VEVENT
UID:5b3ee4e570a6adf4a599f191@squarespace.com
DTSTAMP:20190625T045438Z
DTSTART:20191013T170000Z
DTEND:20191013T190000Z
SUMMARY:MUSIC IN THE PARK
END:VEVENT
END:VCALENDAR
