BEGIN:VCALENDAR
VERSION:2.0
PRODID:-//Squarespace Inc/Squarespace 6//v6//EN
BEGIN:VEVENT
UID:5a95e45024a6942348fab726@squarespace.com
DTSTAMP:20190226T052010Z
DTSTART:20180311T170000Z
DTEND:20180311T190000Z
SUMMARY:Music in the Park
END:VEVENT
END:VCALENDAR
