BEGIN:VCALENDAR
VERSION:2.0
PRODID:-//Squarespace Inc/Squarespace 6//v6//EN
BEGIN:VEVENT
UID:5a9609cfe4966b5857ff996b@squarespace.com
DTSTAMP:20180228T015507Z
DTSTART:20180408T170000Z
DTEND:20180408T190000Z
SUMMARY:Music in the Park
END:VEVENT
END:VCALENDAR
