BEGIN:VCALENDAR
VERSION:2.0
PRODID:-//Squarespace Inc/Squarespace 6//v6//EN
BEGIN:VEVENT
UID:5a96127e53450a754a52c148@squarespace.com
DTSTAMP:20180228T023053Z
DTSTART:20180513T170000Z
DTEND:20180513T190000Z
SUMMARY:Music in the Park
END:VEVENT
END:VCALENDAR
