BEGIN:VCALENDAR
VERSION:2.0
PRODID:-//Squarespace Inc/Squarespace 6//v6//EN
BEGIN:VEVENT
UID:5b4c1a80352f534ffb82a401@squarespace.com
DTSTAMP:20180716T044914Z
DTSTART:20180816T220000Z
DTEND:20180817T003000Z
SUMMARY:OUR ENVIRONMENT - OUR FUTURE
GEO:-27.452562;151.944479
LOCATION:Highfields Tavern\, Corner O'Brien Rd and Highfields Rd\, Highfiel
 ds\, Australia
END:VEVENT
END:VCALENDAR
