BEGIN:VCALENDAR
VERSION:2.0
PRODID:-//Squarespace Inc/Squarespace 6//v6//EN
BEGIN:VEVENT
UID:5c74d15ff9619a3ee9e2e63d@squarespace.com
DTSTAMP:20190226T054645Z
DTSTART:20190512T170000Z
DTEND:20190512T190000Z
SUMMARY:MUSIC IN THE PARK
END:VEVENT
END:VCALENDAR
