BEGIN:VCALENDAR
VERSION:2.0
PRODID:-//Squarespace Inc/Squarespace 6//v6//EN
BEGIN:VEVENT
UID:5b3ede9c1ae6cf3aabd75949@squarespace.com
DTSTAMP:20190226T054047Z
DTSTART:20180909T170000Z
DTEND:20180909T190000Z
SUMMARY:MUSIC IN THE PARK
END:VEVENT
END:VCALENDAR
