BEGIN:VCALENDAR
VERSION:2.0
PRODID:-//Squarespace Inc/Squarespace 6//v6//EN
BEGIN:VEVENT
UID:5d92edbd81b391136bdbb019@squarespace.com
DTSTAMP:20191001T063940Z
DTSTART:20191013T160000Z
DTEND:20191013T190000Z
SUMMARY:PET PARADE PARTY
END:VEVENT
END:VCALENDAR
