BEGIN:VCALENDAR
VERSION:2.0
PRODID:-//Squarespace Inc/Squarespace 6//v6//EN
BEGIN:VEVENT
UID:5da27896426f3c10ebe83364@squarespace.com
DTSTAMP:20191023T081942Z
DTSTART:20191114T230000Z
DTEND:20191115T010000Z
SUMMARY:PLANTS FOR A CHANGING CLIMATE
END:VEVENT
END:VCALENDAR
