BEGIN:VCALENDAR
VERSION:2.0
PRODID:-//Squarespace Inc/Squarespace 6//v6//EN
BEGIN:VEVENT
UID:5c161be3f950b7d4a3692fb3@squarespace.com
DTSTAMP:20190107T075141Z
DTSTART:20190214T230000Z
DTEND:20190215T013000Z
SUMMARY:THE ROLE OF BACKYARD REFUGIA
END:VEVENT
END:VCALENDAR
