BEGIN:VCALENDAR
VERSION:2.0
PRODID:-//Squarespace Inc/Squarespace 6//v6//EN
BEGIN:VEVENT
UID:5c74cb5be4966b9bdf7c7958@squarespace.com
DTSTAMP:20200717T081140Z
DTSTART:20190310T170000Z
DTEND:20190310T190000Z
SUMMARY:MUSIC IN THE PARK
END:VEVENT
END:VCALENDAR
