BEGIN:VCALENDAR
VERSION:2.0
PRODID:-//Squarespace Inc/Squarespace 6//v6//EN
BEGIN:VEVENT
UID:5c74cdd31905f4c9aedcf8c5@squarespace.com
DTSTAMP:20190226T054755Z
DTSTART:20190414T170000Z
DTEND:20190414T190000Z
SUMMARY:MUSIC IN THE PARK
END:VEVENT
END:VCALENDAR
