BEGIN:VCALENDAR
VERSION:2.0
PRODID:-//Squarespace Inc/Squarespace 6//v6//EN
BEGIN:VEVENT
UID:5c906501a4222fe60cc82d30@squarespace.com
DTSTAMP:20190319T042926Z
DTSTART:20190516T220000Z
DTEND:20190517T000000Z
SUMMARY:ACTIONS TO ADAPT TO CLIMATE CHANGE IN OUR GARDENS
END:VEVENT
END:VCALENDAR
