BEGIN:VCALENDAR
VERSION:2.0
PRODID:-//Squarespace Inc/Squarespace 6//v6//EN
BEGIN:VEVENT
UID:5d11a99ea55ad10001b0e7b2@squarespace.com
DTSTAMP:20191013T024027Z
DTSTART:20190815T220000Z
DTEND:20190816T000000Z
SUMMARY:BUGS IN YOUR GARDEN - the Good\, the Bad and the Ugly!
END:VEVENT
END:VCALENDAR
