BEGIN:VCALENDAR
VERSION:2.0
PRODID:-//Squarespace Inc/Squarespace 6//v6//EN
BEGIN:VEVENT
UID:5f742719a34d8d00184262b9@squarespace.com
DTSTAMP:20200930T073338Z
DTSTART:20201011T170000Z
DTEND:20201011T190000Z
SUMMARY:MUSIC IN THE PARK
END:VEVENT
END:VCALENDAR
