BEGIN:VCALENDAR
VERSION:2.0
PRODID:-//Squarespace Inc/Squarespace 6//v6//EN
BEGIN:VEVENT
UID:5f7434600b9e3770a6a9f37d@squarespace.com
DTSTAMP:20200930T074346Z
DTSTART:20201108T180000Z
DTEND:20201108T200000Z
SUMMARY:MUSIC IN THE PARK
END:VEVENT
END:VCALENDAR
