BEGIN:VCALENDAR
VERSION:2.0
PRODID:-//Squarespace Inc/Squarespace 6//v6//EN
BEGIN:VEVENT
UID:5e1f915897c6b67ecbe47368@squarespace.com
DTSTAMP:20200308T223112Z
DTSTART:20200213T230000Z
DTEND:20200214T013000Z
SUMMARY:GOOD BUGS FOR BAD BUGS
END:VEVENT
END:VCALENDAR
