BEGIN:VCALENDAR
VERSION:2.0
PRODID:-//Squarespace Inc/Squarespace 6//v6//EN
BEGIN:VEVENT
UID:5e5afdbdbd974c787322df14@squarespace.com
DTSTAMP:20200308T233338Z
DTSTART:20200308T170000Z
DTEND:20200308T190000Z
SUMMARY:MUSIC IN THE PARK
END:VEVENT
END:VCALENDAR
