BEGIN:VCALENDAR
VERSION:2.0
PRODID:-//Squarespace Inc/Squarespace 6//v6//EN
BEGIN:VEVENT
UID:5e6574548edf4322032001c3@squarespace.com
DTSTAMP:20200930T063701Z
DTSTART:20200927T170000Z
DTEND:20200927T190000Z
SUMMARY:MUSIC IN THE PARK
END:VEVENT
END:VCALENDAR
