BEGIN:VCALENDAR
VERSION:2.0
PRODID:-//Squarespace Inc/Squarespace 6//v6//EN
BEGIN:VEVENT
UID:5e656e309369fa0953212c93@squarespace.com
DTSTAMP:20201002T045354Z
DTSTART:20201112T230000Z
DTEND:20201113T010000Z
SUMMARY:WISE WITH WATER 
END:VEVENT
END:VCALENDAR
