BEGIN:VCALENDAR
VERSION:2.0
PRODID:-//Squarespace Inc/Squarespace 6//v6//EN
BEGIN:VEVENT
UID:5f26470ba9e7856699b9a75d@squarespace.com
DTSTAMP:20200830T093136Z
DTSTART:20200913T170000Z
DTEND:20200913T190000Z
SUMMARY:MUSIC IN THE PARK
END:VEVENT
END:VCALENDAR
