BEGIN:VCALENDAR
VERSION:2.0
PRODID:-//Squarespace Inc/Squarespace 6//v6//EN
BEGIN:VEVENT
UID:5ffcdeb2b694db220d3b3261@squarespace.com
DTSTAMP:20210209T060109Z
DTSTART:20210218T230000Z
DTEND:20210219T013000Z
SUMMARY:PRUNING FOR TREE CARE
END:VEVENT
END:VCALENDAR
