BEGIN:VCALENDAR
VERSION:2.0
PRODID:-//Squarespace Inc/Squarespace 6//v6//EN
BEGIN:VEVENT
UID:5d11abd020828c00012a33f6@squarespace.com
DTSTAMP:20200301T001955Z
DTSTART:20191110T180000Z
DTEND:20191110T200000Z
SUMMARY:MUSIC IN THE PARK
END:VEVENT
END:VCALENDAR
